

BEGIN:VCALENDAR
VERSION:2.0
PRODID:-//hacksw/handcal//NONSGML v1.0//EN
CALSCALE:GREGORIAN
BEGIN:VEVENT
DTEND:20210927T213000
UID:69e5fb4260664
DTSTAMP:20260420T200906
LOCATION:Walkerville Art Show Cnr Smith & Church Streets Walkerville 5041 SA
DESCRIPTION:Award winning artist Alan Ramachandran will demonstrate his techniques.
Cost is $5 but includes the usual $5 entry fee to the art show.
Due to Covid\, space is restricted. To secure a spot please book online and bring the ticket with you.
URL;VALUE=URI:http://walkervilleartshow.com.au/event/46148
SUMMARY:Artist Demonstration - Alan Ramachandran
DTSTART:20210926T140000
END:VEVENT
END:VCALENDAR

